BEGIN:VCALENDAR
PRODID:-//www.cityofliterature.co.nz//EN
VERSION:2.0
METHOD:PUBLISH
BEGIN:VEVENT
DTSTART;TZID=America/New_York:20161106T140000
DTEND;TZID=America/New_York:20161106T143000
URL:https://www.cityofliterature.co.nz/whats-on/once-upon-a-sunday-earth-magic/
SUMMARY:Once Upon a Sunday: Earth Magic
LOCATION:
DESCRIPTION:Celebrate our wonderful world with some stories and songs from local storyteller Kaitrin McMullan.
Bring along your poem to add to our poetry tree and help her grow!
For children of all ages.Children’s Storypit, City Library
END:VEVENT
END:VCALENDAR