BEGIN:VCALENDAR
PRODID:-//www.cityofliterature.co.nz//EN
VERSION:2.0
METHOD:PUBLISH
BEGIN:VEVENT
DTSTART;TZID=America/New_York:20161002T140000
DTEND;TZID=America/New_York:20161002T143000
URL:https://www.cityofliterature.co.nz/whats-on/new-calendar-event-14/
SUMMARY:Once Upon a Sunday: Animal Tails
LOCATION:
DESCRIPTION:Let’s celebrate all the lovely animals in the world with some furry, feathery, scaly tales by local storyteller Kaitrin McMullan.
Come along dressed as your favourite animal, and be sure to bring a nice tail to wag!
For children of all ages.
Children’s Storypit, City Library
 
END:VEVENT
END:VCALENDAR