BEGIN:VCALENDAR
PRODID:-//www.cityofliterature.co.nz//EN
VERSION:2.0
METHOD:PUBLISH
BEGIN:VEVENT
DTSTART;TZID=America/New_York:20160904T140000
DTEND;TZID=America/New_York:20160904T143000
URL:https://www.cityofliterature.co.nz/whats-on/once-upon-a-sunday-piratical-pops/
SUMMARY:Once Upon a Sunday: Piratical Pops
LOCATION:
DESCRIPTION:Aaargh! Climb aboard me hearties and hear some salty shanties and tall tales from local storyteller Kaitrin McMullan.Make a pirate hat with us and join our crew.
For children of all ages.
Children’s Storypit, City Library
END:VEVENT
END:VCALENDAR