BEGIN:VCALENDAR
PRODID:-//www.cityofliterature.co.nz//EN
VERSION:2.0
METHOD:PUBLISH
BEGIN:VEVENT
DTSTART;TZID=America/New_York:20160803T
DTEND;TZID=America/New_York:20160827T
URL:https://www.cityofliterature.co.nz/whats-on/private-lodgings-id-rather-be-both/
SUMMARY:Private Lodgings & I'd rather be both
LOCATION:
DESCRIPTION:Daegan Wells &amp; Connah Podmore
Tuesday 2 August, 5.30pmOpening PreviewFree to attend, all welcome
Wednesday 3 August, 12-1pm.Join the artists in conversation with Chloe GeogheganFree to attend, all welcome
Join us to celebrate the opening of the Blue Oyster’s third annual parallel exhibition. Alongside Daegan Wells’ Private Lodgings in the front space, Connah Podmore presents I'd rather be both in the second space. While each artist presents work unique to their current practice, they are also in conversation with each other using a common thread of memory. This temporary overlap offers dual ideologies, research methods and multiple opportunities for engagement.Blue Oyster Gallery, 16 Dowling Street
END:VEVENT
END:VCALENDAR