BEGIN:VCALENDAR
PRODID:-//www.cityofliterature.co.nz//EN
VERSION:2.0
METHOD:PUBLISH
BEGIN:VEVENT
DTSTART;TZID=America/New_York:20160730T150000
DTEND;TZID=America/New_York:20160730T170000
URL:https://www.cityofliterature.co.nz/whats-on/publication-launch-and-exhibition-the-brook-project/
SUMMARY:Publication Launch and Exhibition: The Brook Project
LOCATION:
DESCRIPTION:You are warmly invited to attend The Brook Project, publication launch and exhibition.
This publication is a culmination of research, documentation of The Brook Project site-specific installation, and writing.You can download the online version here http://www.blueoyster.org.nz/assets/Online-Publications/The-Brook-Project.pdf and hard copies will be available for sale at $15 each. Feel free to distribute this to interested parties.
Geoff's Studio, Level 2, Allbell Chambers, 127 Lower Stuart Street
END:VEVENT
END:VCALENDAR