BEGIN:VCALENDAR
PRODID:-//www.cityofliterature.co.nz//EN
VERSION:2.0
METHOD:PUBLISH
BEGIN:VEVENT
DTSTART;TZID=America/New_York:20160727T
DTEND;TZID=America/New_York:20160815T
URL:https://www.cityofliterature.co.nz/whats-on/train-ride-through-the-night-illustration-competition/
SUMMARY:Train ride through the night: illustration competition
LOCATION:
DESCRIPTION:You glance out the rain splattered windows as the train speeds through the stormy night. What was that? Draw what you might see in that moment as the night flashes by. Let your imagination take you on a journey. Pick a competition form up from your local library.Book prizes for the best entry.AGE GROUPS: 4 – 6 years, 7 – 9 years and 10 – 12 yearsENTRIES CLOSE: Monday 15 AugustENTRIES TO: Dunedin City Library, PO Box 5542, Moray Place, Dunedin 9058WINNERS ANNOUNCED: Saturday 27 August, 2.45pm at the Storylines Family Day, 2nd Floor, City Library
FREE
END:VEVENT
END:VCALENDAR