BEGIN:VCALENDAR
PRODID:-//www.cityofliterature.co.nz//EN
VERSION:2.0
METHOD:PUBLISH
BEGIN:VEVENT
DTSTART;TZID=America/New_York:20160727T
DTEND;TZID=America/New_York:20160815T
URL:https://www.cityofliterature.co.nz/whats-on/one-night-after-dark-in-the-library/
SUMMARY:One night after dark in the Library: Writing Competition
LOCATION:
DESCRIPTION:The library has closed and everyone has gone for the day, but all is not quiet. As the doors close the books in the children’s section begin to open and the stories come alive. Tell us your story about what happens next. (Max 300 words) Book prizes for the best entry.AGE GROUPS: 6 – 8 years, 9 – 10 years and 11 – 13 yearsENTRIES CLOSE: Monday 15 AugustENTRIES TO: Dunedin City Library, PO Box 5542, Moray Place, Dunedin 9058WINNERS ANNOUNCED: Saturday 27 August, 2.30pm at the Storylines Family Day, 2nd Floor, City LibraryFREE
 
END:VEVENT
END:VCALENDAR