BEGIN:VCALENDAR
PRODID:-//www.cityofliterature.co.nz//EN
VERSION:2.0
METHOD:PUBLISH
BEGIN:VEVENT
DTSTART;TZID=America/New_York:20160722T
DTEND;TZID=America/New_York:20161009T
URL:https://www.cityofliterature.co.nz/whats-on/reed-gallery-exhibition-flits-across-the-stage-theatrical-ephemera-from-the-heritage-collection/
SUMMARY:Reed Gallery Exhibition: Flits Across the Stage: Theatrical Ephemera from the Heritage Collection
LOCATION:
DESCRIPTION:The latest Reed Gallery exhibition showcases a selection of visually-stimulating highlights from this diverse collection of theatrical ephemera. The emphasis is on Dunedin’s vibrant theatrical heritage from its thriving origins in the late nineteenth century until the gradual demise of its Dunedin centrepiece, His Majesty’s Theatre, in the early 1970s.
3rd Floor, Dunedin City Library
END:VEVENT
END:VCALENDAR