BEGIN:VCALENDAR
PRODID:-//www.cityofliterature.co.nz//EN
VERSION:2.0
METHOD:PUBLISH
BEGIN:VEVENT
DTSTART;TZID=America/New_York:20160718T
DTEND;TZID=America/New_York:20160722T
URL:https://www.cityofliterature.co.nz/whats-on/freddos-family-story-time/
SUMMARY:Freddo’s Family Story Time
LOCATION:
DESCRIPTION:Hop along to the Library with your family for a special chocolate-themed storytime session. Meet Freddo Frog and enjoy a chocolate treat!
Waikouaiti Library, Monday 18th July 2pmMosgiel Library, Tuesday 19th July 11amCity Library (4th Floor foyer), Wednesday 20th July 10.30amPort Chalmers Library, Thursday 21st July 10amBlueskin Bay Library, Thursday 21st July 2pmCity Library (4th Floor foyer), Friday 22nd July 10.30am
 
END:VEVENT
END:VCALENDAR