BEGIN:VCALENDAR
PRODID:-//www.cityofliterature.co.nz//EN
VERSION:2.0
METHOD:PUBLISH
BEGIN:VEVENT
DTSTART;TZID=America/New_York:20160807T140000
DTEND;TZID=America/New_York:20160807T143000
URL:https://www.cityofliterature.co.nz/whats-on/once-upon-a-sunday-lighthouse-larks/
SUMMARY:Once Upon a Sunday: Lighthouse Larks
LOCATION:
DESCRIPTION:Bring your torch and join local storyteller Kaitrin McMullan celebrating the work of the Lighthouse keeper.Shine a light and see if you can find the treasure hidden in the Library!
For children of all ages.
Children’s Storypit, City Library
END:VEVENT
END:VCALENDAR