BEGIN:VCALENDAR
PRODID:-//www.cityofliterature.co.nz//EN
VERSION:2.0
METHOD:PUBLISH
BEGIN:VEVENT
DTSTART;TZID=America/New_York:20160731T190000
DTEND;TZID=America/New_York:20160731T210000
URL:https://www.cityofliterature.co.nz/whats-on/maria/
SUMMARY:Maria
LOCATION:Teacher's College Auditorium   
DESCRIPTION:Ladies and gentlemen, the Otago Filipino Students' Association presents to you the very first Filipino Cultural Night, "MARIA," based on a Disney's favourite, Mulan.
Join Maria on her journey to liberate the Filipinos from Spanish colonization. Action, romance, humor, drama, history, arts -- it's a perfect mix of everything packed in a show.
All profits will be donated to the New Zealand Red Cross Syrian Refugee Programme.
Tickets: $10 or $12 door saleAvailable at Manila Grill (cash ONLY), alternatively, contact Bahay Kubo on Facebook or text 02102400099. 
Teacher's College Auditorium
 
END:VEVENT
END:VCALENDAR