BEGIN:VCALENDAR
PRODID:-//www.cityofliterature.co.nz//EN
VERSION:2.0
METHOD:PUBLISH
BEGIN:VEVENT
DTSTART;TZID=America/New_York:20160709T
DTEND;TZID=America/New_York:20160717T
URL:https://www.cityofliterature.co.nz/whats-on/not-quite-the-big-bad-wolf/
SUMMARY:Not quite the big bad wolf
LOCATION:
DESCRIPTION:Dunedin Repertory Society's Children's theatre presents Not quite the big bad wolf11am and 2pm dailyOpening Weekend and final Sunday 2pm only.All tickets $8 - Bookings phone 477 6544Playhouse Theatre, Albany Street
END:VEVENT
END:VCALENDAR