BEGIN:VCALENDAR
PRODID:-//www.cityofliterature.co.nz//EN
VERSION:2.0
METHOD:PUBLISH
BEGIN:VEVENT
DTSTART;TZID=America/New_York:20160714T173000
DTEND;TZID=America/New_York:20160714T190000
URL:https://www.cityofliterature.co.nz/whats-on/true-crime-and-crime-writing-bestselling-crime-writing-by-vanda-symon/
SUMMARY:True Crime and Crime Writing – Bestselling Crime Writing by Vanda Symon
LOCATION:
DESCRIPTION:To miss this event would be a crime. A fascinating talk on crime and crime writing with a Dunedin flavour, presented in the heart of the Dunedin Former Prison. Warm dress recommended.
Limited numbers, Booking essential. http://www.ticketdirect.co.nz/event/details/150974/true-crime-and-crime-writing
To book, you can also call 0800 224 224 or go to TicketDirect outlets.
If you have any questions, email director@scifest.org.nz or call 03 474 9256.ENTRY: $15 per person
Dunedin Former Prison, 2 Castle Street, Dunedin
END:VEVENT
END:VCALENDAR