BEGIN:VCALENDAR
PRODID:-//www.cityofliterature.co.nz//EN
VERSION:2.0
METHOD:PUBLISH
BEGIN:VEVENT
DTSTART;TZID=America/New_York:20160720T170000
DTEND;TZID=America/New_York:20160720T193000
URL:https://www.cityofliterature.co.nz/whats-on/an-invitation-annual-ubs-midwinter-celebration/
SUMMARY:AN INVITATION: Annual UBS Midwinter Celebration
LOCATION:
DESCRIPTION:Come celebrate the chill in the air with us at our annual midwinter shopping evening! As usual, specialist booksellers will be on hand, gift-wrapping will be free, there are fabulous books, beautiful stationery and quirky gifts – with 15% discount off all full-priced items – and warming winter treats to enjoy.See you there!University Book Shop, 378 Great King StRSVP to events@unibooks.co.nz | 03 477 6976 - not necessary to attend but very helpful for catering!
END:VEVENT
END:VCALENDAR