BEGIN:VCALENDAR
PRODID:-//www.cityofliterature.co.nz//EN
VERSION:2.0
METHOD:PUBLISH
BEGIN:VEVENT
DTSTART;TZID=America/New_York:20160704T103000
DTEND;TZID=America/New_York:20160704T110000
URL:https://www.cityofliterature.co.nz/whats-on/maori-language-week-te-reo-maori-storytime/
SUMMARY:Māori Language Week: Te Reo Māori Storytime
LOCATION:
DESCRIPTION:Bring the tamariki and celebrate Māori Language Week with a Te Reo Māori Storytime.
Reo Pēpi will be reading from a selection of their beautifully-illustrated and fun pukapuka-books.
Reo Pēpi books offer a delightful way for parents to integrate te reo into the everyday language of the whānau, with parents and tamariki learning together.
Reo Pēpi Pukapuka can be purchased on the day – cash sales
Storypit, Ground Floor, City Library
 
END:VEVENT
END:VCALENDAR