BEGIN:VCALENDAR
PRODID:-//www.cityofliterature.co.nz//EN
VERSION:2.0
METHOD:PUBLISH
BEGIN:VEVENT
DTSTART;TZID=America/New_York:20160715T
DTEND;TZID=America/New_York:20160905T
URL:https://www.cityofliterature.co.nz/whats-on/43-nz-authors-portrait-photography-by-maja-moritz/
SUMMARY:43 NZ Authors: Portrait Photography by Maja Moritz
LOCATION:
DESCRIPTION:“Photography is telling stories without words. It is about expressing feelings, often unspoken feelings. It is about the search for the essence of a moment. Fleeting, ephemeral, personal, somehow intimate without intimacy, an impression of spirit.” [Maja Moritz]
In 2012 Maja Moritz was asked by the German Press Agency to photograph New Zealand authors at the Frankfurt Book Fair in Germany, where New Zealand was Guest of Honour. Maja presents the results of her assignment on the Dunedin leg of her touring exhibition.
The exhibition is supported by a booklist and accompanied by works written by the participating authors
Dunedin City Library
 
END:VEVENT
END:VCALENDAR