BEGIN:VCALENDAR
PRODID:-//www.cityofliterature.co.nz//EN
VERSION:2.0
METHOD:PUBLISH
BEGIN:VEVENT
DTSTART;TZID=America/New_York:20160713T173000
DTEND;TZID=America/New_York:20160713T
URL:https://www.cityofliterature.co.nz/whats-on/book-launch-mothers-darlings-of-the-south-pacific/
SUMMARY:Book Launch: Mothers’ Darlings of the South Pacific
LOCATION:
DESCRIPTION:Otago University Press warmly invites you to the launch of Mothers’ Darlings of the South Pacific: The Children of Indigenous Women and US Servicemen, World War II, edited by Judith A. Bennett and Angela Wanhalla.
RSVP to publicity@otago.ac.nz by Friday 8 JulyBooks will be available at the event to purchase and have signed.
Te Tumu, School of Maori, Pacific &amp; Indigenous Studies, South Tower, Richardson Building (entrance off Leith Walk, Otago University)
END:VEVENT
END:VCALENDAR