BEGIN:VCALENDAR
PRODID:-//www.cityofliterature.co.nz//EN
VERSION:2.0
METHOD:PUBLISH
BEGIN:VEVENT
DTSTART;TZID=America/New_York:20160717T130000
DTEND;TZID=America/New_York:20160717T143000
URL:https://www.cityofliterature.co.nz/whats-on/meet-the-fellows-2016-panel-discussion/
SUMMARY:Meet the Fellows 2016: Panel Discussion
LOCATION:
DESCRIPTION:Meet the Fellows:
Victor Rodger - Robert Burns Fellow
Barbara Else - University of Otago College of Education/Creative New Zealand Children's Writer in Residence
Miranda Parkes - Frances Hodgkins Fellow
Val Smith - Caroline Plummer Fellow in Community Dance
Chris Gendall - Mozart Fellow.
Convenor is Nicholas McBryde, Director, Arts Festival Dunedin. All welcome.
 
END:VEVENT
END:VCALENDAR