BEGIN:VCALENDAR
PRODID:-//www.cityofliterature.co.nz//EN
VERSION:2.0
METHOD:PUBLISH
BEGIN:VEVENT
DTSTART;TZID=America/New_York:20160717T140000
DTEND;TZID=America/New_York:20160717T
URL:https://www.cityofliterature.co.nz/whats-on/goldx2-the-duncan-laing-story-by-stefan-laing/
SUMMARY:Book Launch: GOLD x2, The Duncan Laing Story
LOCATION:
DESCRIPTION:GOLD x 2 unravels the life story of Duncan Laing, much respected and loved for his boundless commitment to teaching and coaching rugby, surf life saving and swimming in New Zealand. This is the tale of the extraordinary ‘good Kiwi bloke’ who coached Danyon Loader to win two gold medals at the Olympic Games in Atlanta, USA in 1996.Special Guest: Danyon LoaderBook signing and Afternoon Tea providedAll Welcome
Otago Bridge Club100 Otaki Street, Dunedin
END:VEVENT
END:VCALENDAR