BEGIN:VCALENDAR
PRODID:-//www.cityofliterature.co.nz//EN
VERSION:2.0
METHOD:PUBLISH
BEGIN:VEVENT
DTSTART;TZID=America/New_York:20160708T170000
DTEND;TZID=America/New_York:20160708T190000
URL:https://www.cityofliterature.co.nz/whats-on/bedtime-capers/
SUMMARY:Bedtime Capers
LOCATION:
DESCRIPTION:Do you have little booklovers in your life? Join us in the bookshop after dark for Bedtime Capers! There will be stories and songs, a character hunt amongst the bookshelves and winter craft activities, as well as tasty treats! Wear your PJs, dressing gowns or onesies and enjoy some whimsical winter fun best for ages 2-7 years (but booklovers of all ages are welcome)…The Children’s Room at the University Book Shop, 378 Great King StreetFREE, all welcome
END:VEVENT
END:VCALENDAR