BEGIN:VCALENDAR
PRODID:-//www.cityofliterature.co.nz//EN
VERSION:2.0
METHOD:PUBLISH
BEGIN:VEVENT
DTSTART;TZID=America/New_York:20160710T140000
DTEND;TZID=America/New_York:20160710T150000
URL:https://www.cityofliterature.co.nz/whats-on/lance-richdale-seabird-genius/
SUMMARY: Lance Richdale Seabird Genius
LOCATION:
DESCRIPTION:How did the first albatross chick safely fledge at the Royal Albatross Colony in 1938? Find out about the Life and Legacy of Dr Lance Richdale, a wildlife hero!Dunedin biographer Neville Peat will present an illustrated talk about the life of the science teacher who established Dunedin’s royal albatross colony and became a world authority on albatrosses and penguins.
Dunedin City Library, 230 Moray Pl, DunedinAll AgesFree
END:VEVENT
END:VCALENDAR