BEGIN:VCALENDAR
PRODID:-//www.cityofliterature.co.nz//EN
VERSION:2.0
METHOD:PUBLISH
BEGIN:VEVENT
DTSTART;TZID=America/New_York:20160827T110000
DTEND;TZID=America/New_York:20160827T150000
URL:https://www.cityofliterature.co.nz/whats-on/dunedin-family-day-2016/
SUMMARY:Dunedin Family Day 2016
LOCATION:
DESCRIPTION:Brought to you by the Storylines Festival of New Children’s Writers and Illustrators.
Meet your favourite children’s authors and illustrators Ella West, Diana Noonan, Elizabeth Pulford, Fifi Colston, Leonie Agnew, Jane Bloomfield, Scott Tulloch, Gillian Candler and Elena de Roo.
Plus storytelling from Tahu Mackenzie and Kaitrin McMullan, special guests Orokonui Ecosanctuary, face-painting, spot prizes, art and craft activities, sausage sizzle, and the Family Day competitions prize-giving ceremony.
Dunedin City Library
Gold Coin Donation
 
END:VEVENT
END:VCALENDAR