BEGIN:VCALENDAR
PRODID:-//www.cityofliterature.co.nz//EN
VERSION:2.0
METHOD:PUBLISH
BEGIN:VEVENT
DTSTART;TZID=America/New_York:20160527T
DTEND;TZID=America/New_York:20160730T
URL:https://www.cityofliterature.co.nz/whats-on/window-of-shanghai-project/
SUMMARY:Window of Shanghai Project
LOCATION:
DESCRIPTION:We’re delighted to inform that the “Shanghai Get-together 2016 – the 4th Writing and Photography Contest” is unveiled, and we’re waiting for your participation. People from overseas who are interested in China and its city of Shanghai can submit your entry by uploading one article or one photograph (or both) to the following website: http://windowofshanghai.library.sh.cn/activities/get_together2016/get_together2016en.htmlThe first and second prize winners will be invited to visit Shanghai, and the third prize winners will get specially made gifts.Thanks in advance for your sustained support and we’re looking forward to your participation.
END:VEVENT
END:VCALENDAR