BEGIN:VCALENDAR
PRODID:-//www.cityofliterature.co.nz//EN
VERSION:2.0
METHOD:PUBLISH
BEGIN:VEVENT
DTSTART;TZID=America/New_York:20160527T190000
DTEND;TZID=America/New_York:20160527T
URL:https://www.cityofliterature.co.nz/whats-on/lights-of-home/
SUMMARY:Lights of Home
LOCATION:
DESCRIPTION:A Concert of Poetry &amp; MusicSue Wootton, Vincent O'Sullivan, with the prize-winners of the 'Home' Secondary Schools Poetry competitionAlong with Anna Bowen &amp; the Dunedin Scottish Fiddlers, Abby Wolfe, Southern Consort of Voices and Sunny Side UpLight supper after.
Organised by Amnesty International
Tickets available: University Book Shop, $20
All Saints' Church
 
END:VEVENT
END:VCALENDAR