BEGIN:VCALENDAR
PRODID:-//www.cityofliterature.co.nz//EN
VERSION:2.0
METHOD:PUBLISH
BEGIN:VEVENT
DTSTART;TZID=America/New_York:20160609T180000
DTEND;TZID=America/New_York:20160609T193000
URL:https://www.cityofliterature.co.nz/whats-on/author-talk-philip-temple-where-we-were-where-we-are-now/
SUMMARY:Author Talk: Philip Temple - Where We Were, Where We Are Now
LOCATION:
DESCRIPTION:President of Honour of the NZ Society of Authors (PEN NZ), Dr Philip Temple ONZM, presents the 2016 Janet Frame Memorial Lecture.
Philip Temple’s second published book, The Sea and the Snow, will be republished in a 50th anniversary edition this year. As he now works on a biography of Maurice Shadbolt, he considers how much has changed and how much remains the same in the professional life of a New Zealand writer over the past half century.
Free - Bookings essential: 03 474 3690 or library@dcc.govt.nz
4th Floor, Dunningham Suite, Dunedin City Library
END:VEVENT
END:VCALENDAR