BEGIN:VCALENDAR
PRODID:-//www.cityofliterature.co.nz//EN
VERSION:2.0
METHOD:PUBLISH
BEGIN:VEVENT
DTSTART;TZID=America/New_York:20160825T180000
DTEND;TZID=America/New_York:20160825T200000
URL:https://www.cityofliterature.co.nz/whats-on/from-a-rich-land-the-poetry-of-otago/
SUMMARY:Decadence: Ten Otago Poets
LOCATION:
DESCRIPTION:As a prelude to tomorrow's National Poetry Day, the New Zealand Society of Authors, in partnership with Dunedin Public Libraries, brings 10 acclaimed Otago poets together for an evening to celebrate the region's literary talent.
Guests include multiple award-winner Emma Neale, Lynley Edmeades whose debut collection was published in April, and distinguished Alexandra-based poet Michael Harlow.
Tickets: $5RSVP Essential. Once you have booked your place, you will need to come into the Library to pay for and receive your ticket. You will need your ticket as proof of payment for entry.Bookings: Library@dcc.govt.nz, 03 474 3419 or visit www.dunedinlibraries.govt.nz/events for further details
[There will be a 15 minute interval part-way through the programme]
4th Floor, Dunningham Suite, Dunedin City Library(Reception at 5.30pm: light refreshments and laid-back jazz on the baby grand piano)
END:VEVENT
END:VCALENDAR