BEGIN:VCALENDAR
PRODID:-//www.cityofliterature.co.nz//EN
VERSION:2.0
METHOD:PUBLISH
BEGIN:VEVENT
DTSTART;TZID=America/New_York:20160826T093000
DTEND;TZID=America/New_York:20160826T200000
URL:https://www.cityofliterature.co.nz/whats-on/the-dunedin-poem/
SUMMARY:The Dunedin Poem
LOCATION:
DESCRIPTION:Today is National Poetry Day!Celebrate by helping to create a poem for Dunedin by Dunedin.Local poet Diane Brown has gifted the first line of this new poem. You are invited to write the next line.Throughout National Poetry Day 2016, the poem will grow, and Dunedin Public Libraries will design a poster of the finished version to display.
Contact: Library@dcc.govt.nz or 03 474 3419 for further details
All welcome to contribute (no offensive language, please)All Dunedin Public Libraries
 
END:VEVENT
END:VCALENDAR