BEGIN:VCALENDAR
PRODID:-//www.cityofliterature.co.nz//EN
VERSION:2.0
METHOD:PUBLISH
BEGIN:VEVENT
DTSTART;TZID=America/New_York:20160521T110000
DTEND;TZID=America/New_York:20160521T160000
URL:https://www.cityofliterature.co.nz/whats-on/creative-writing-dunedin-writing-workshop/
SUMMARY:Creative Writing Dunedin Writing Workshop
LOCATION:
DESCRIPTION:Real Life, Memoir: This day is a taster on writing about real lives, either your own or that of others. We will focus on stimulating your memory and ways of looking at the past and how to make your stories have meaning for readers.Venue to be advised. Tea and coffee provided, bring your own lunch.Cost:$50http://creativewritingdunedin.nz/casual-saturday-classes/
END:VEVENT
END:VCALENDAR