BEGIN:VCALENDAR
PRODID:-//www.cityofliterature.co.nz//EN
VERSION:2.0
METHOD:PUBLISH
BEGIN:VEVENT
DTSTART;TZID=America/New_York:20160509T190000
DTEND;TZID=America/New_York:20160509T
URL:https://www.cityofliterature.co.nz/whats-on/writers-salon-5/
SUMMARY:Writers Salon 
LOCATION:
DESCRIPTION:Readings will start at 7.00 pm sharp. Come at 6.00 pm if you wish to eat. 
Our 4 featured writers are:• Spy writer, Craig Arthur• Poet, Kay McKenzie Cooke• Memoirist/Poet , Jenny Powell• Novelist and short story writer, Jackie BallantyneBrought to you by: NZSA Otago Southland branch
The Thistle offers a wide range of food and beverages. You can have a full meal, come for cake and coffee or have a wine and share a cheese plate.
The Thistle Café and Bar, 23 The Octagon
END:VEVENT
END:VCALENDAR