BEGIN:VCALENDAR
PRODID:-//www.cityofliterature.co.nz//EN
VERSION:2.0
METHOD:PUBLISH
BEGIN:VEVENT
DTSTART;TZID=America/New_York:20160716T
DTEND;TZID=America/New_York:20160721T
URL:https://www.cityofliterature.co.nz/whats-on/chocolate-bard-poetry-exhibition-2/
SUMMARY: Chocolate Bard Poetry Exhibition
LOCATION:
DESCRIPTION:Delicious, decadent and delightful… Whose chocolate sonnet deserves to win a prize pack choc-full of treats?
The judges have made their selections of the best 9 poems from the competition for you to vote on. Tell us which of these 9 deserves to win the People’s Choice Award by casting your vote online or at your local library.
Poems will be available to view in the Otago Daily Times, or at your local Dunedin Public Library.
All Dunedin Public Libraries
Visit: www.dunedinlibraries.govt.nz/chocolatebard
END:VEVENT
END:VCALENDAR