BEGIN:VCALENDAR
PRODID:-//www.cityofliterature.co.nz//EN
VERSION:2.0
METHOD:PUBLISH
BEGIN:VEVENT
DTSTART;TZID=America/New_York:20160622T
DTEND;TZID=America/New_York:20160706T
URL:https://www.cityofliterature.co.nz/whats-on/chocolate-bard-poetry-competition-3/
SUMMARY:Chocolate Bard Poetry Competition
LOCATION:
DESCRIPTION:Send us your purple prose. Express how much you love chocolate through poetry for the chance to win a prize pack choc-full of treats, and have your poem published in the Otago Daily Times.
Three competition categories:Adult (age 18+)Youth (ages 11-17 inclusive)Child (age 10 and under)
For an entry form and full terms &amp; conditions go to:www.dunedinlibraries.govt.nz/chocolatebard or www.chocolatecarnival.co.nz
Entries close 12 noon, Wednesday 6th July 2016All Dunedin Public Libraries
END:VEVENT
END:VCALENDAR