BEGIN:VCALENDAR
PRODID:-//www.cityofliterature.co.nz//EN
VERSION:2.0
METHOD:PUBLISH
BEGIN:VEVENT
DTSTART;TZID=America/New_York:20160611T110000
DTEND;TZID=America/New_York:20160611T153000
URL:https://www.cityofliterature.co.nz/whats-on/romance-writers-workshop/
SUMMARY:Romance Writer’s Workshop
LOCATION:
DESCRIPTION:Join us for an all-day workshop event with bestselling romance author, Yvonne Lindsay.
Lunch and afternoon tea provided.Cost: $20 per person
No bookings necessary – pay on entry
Dunningham Suite, 4th Floor, Dunedin City Library
For more information contact: samantha@takemyword.co.nz
 
END:VEVENT
END:VCALENDAR