BEGIN:VCALENDAR
PRODID:-//www.cityofliterature.co.nz//EN
VERSION:2.0
METHOD:PUBLISH
BEGIN:VEVENT
DTSTART;TZID=America/New_York:20160510T180000
DTEND;TZID=America/New_York:20160510T
URL:https://www.cityofliterature.co.nz/whats-on/dunedin-writers-and-readers-festival-in-association-with-auckland-writers-festival-presents-jane-smiley/
SUMMARY:Dunedin Writers & Readers Festival in association with Auckland Writers Festival presents Jane Smiley.
LOCATION:
DESCRIPTION:The New York Times called Jane Smiley, “the sort of writer who secretly drives other writers a little bit crazy. She’s prolific and successful, untroubled by neuroses or blockages, with no messy blots of drinking or drug-taking on her résumé”. Jane Smiley is a genre-hopping American author, best known for the Pulitzer Prize-winning A Thousand Acres. She’s prolific: 16 novels, five works of non-fiction, five YA novels, two short-story collections, and now, hot off the press, her first picture book, Twenty Yawns.
Come and hear Phillippa Duffy from the University Book Shop tackle the prodigious, non-yawny imagination of Jane Smiley.
Books will be available at the events to purchase and have signed.Dunedin Public Art GalleryTickets: $22 / $18 (concession) from University Book Shop03 477 6976 | enquiries@unibooks.co.nz
END:VEVENT
END:VCALENDAR