BEGIN:VCALENDAR
PRODID:-//www.cityofliterature.co.nz//EN
VERSION:2.0
METHOD:PUBLISH
BEGIN:VEVENT
DTSTART;TZID=America/New_York:20160506T200000
DTEND;TZID=America/New_York:20160506T
URL:https://www.cityofliterature.co.nz/whats-on/book-launch-women-of-the-catlins/
SUMMARY:Book Launch: Women of the Catlins
LOCATION:
DESCRIPTION:Otago University Press warmly invites you to celebrate the publication of
Women of the Catlins: Life in the deeps southby Diana Noonan and Cris Antona
Tahakopa Hall, Tahakopa Valley Road, OwakaBooks available for purchaseRSVP publicity@otago.ac.nz by Monday 2 May
END:VEVENT
END:VCALENDAR