BEGIN:VCALENDAR
PRODID:-//www.cityofliterature.co.nz//EN
VERSION:2.0
METHOD:PUBLISH
BEGIN:VEVENT
DTSTART;TZID=America/New_York:20160706T190000
DTEND;TZID=America/New_York:20160706T203000
URL:https://www.cityofliterature.co.nz/whats-on/continued-sense-of-wonder-a-series-of-adult-conversations-about-childrens-literature/
SUMMARY:Continued Sense of Wonder: A series of adult conversations about children's literature
LOCATION:
DESCRIPTION:Join us this time for a discussion on fairy tales or twisted fairy tales.
Bring along an old favourite or a new discovery to share.
[You are welcome to join us for a tour of the children’s basement collection prior to this session. Meet on the 4th floor at 6.30pm.]
Booking essential: 03 474 3690 or library@dcc.govt.nz
For more information, contact: Jackie.mcmillan@dcc.govt.nz
FREE
Dunningham Suite, 4th Floor, City Library
END:VEVENT
END:VCALENDAR