BEGIN:VCALENDAR
PRODID:-//www.cityofliterature.co.nz//EN
VERSION:2.0
METHOD:PUBLISH
BEGIN:VEVENT
DTSTART;TZID=America/New_York:20160703T140000
DTEND;TZID=America/New_York:20160703T143000
URL:https://www.cityofliterature.co.nz/whats-on/once-upon-a-sunday-hoots-toots/
SUMMARY:Once Upon A Sunday: Hoots, Toots, Polish My Boots
LOCATION:
DESCRIPTION:A special Scottish storytime with local storyteller Kaitrin McMullan.Bring along a bit of your own family tartan, or make a colourful kilt with us!For children of all ages.
Children’s Storypit, City Library
 
END:VEVENT
END:VCALENDAR