BEGIN:VCALENDAR
PRODID:-//www.cityofliterature.co.nz//EN
VERSION:2.0
METHOD:PUBLISH
BEGIN:VEVENT
DTSTART;TZID=America/New_York:20160605T140000
DTEND;TZID=America/New_York:20160605T143000
URL:https://www.cityofliterature.co.nz/whats-on/once-upon-a-sunday-matariki-tales/
SUMMARY:Once Upon A Sunday: Matariki Tales
LOCATION:
DESCRIPTION:Celebrate Matariki with a host of star-filled stories by Kaitrin McMullan.Make your own constellation, too!For children of all ages.Children’s Storypit, City Library
 
END:VEVENT
END:VCALENDAR