BEGIN:VCALENDAR
PRODID:-//www.cityofliterature.co.nz//EN
VERSION:2.0
METHOD:PUBLISH
BEGIN:VEVENT
DTSTART;TZID=America/New_York:20160602T123000
DTEND;TZID=America/New_York:20160602T130000
URL:https://www.cityofliterature.co.nz/whats-on/lunchtime-bites-over-the-river-and-through-the-woods/
SUMMARY:Lunchtime Bites: Over the River & Through the Woods
LOCATION:
DESCRIPTION:Sample the lastest play of the season from the Fortune Theatre over a hot cuppa, and go into the draw to win tickets to the show!
Nick, a single American living in New Jersey, has dinner every Sunday with his two sets of doting – but annoying – grandparents. When he tells them that he has been offered a dream job in Seattle, his grandparents scheme to find ways to keep him in town, including introducing him to the lovely – and single – Caitlin O’Hare.
Ground Floor, City Library
END:VEVENT
END:VCALENDAR