BEGIN:VCALENDAR
PRODID:-//www.cityofliterature.co.nz//EN
VERSION:2.0
METHOD:PUBLISH
BEGIN:VEVENT
DTSTART;TZID=America/New_York:20160511T180000
DTEND;TZID=America/New_York:20160511T193000
URL:https://www.cityofliterature.co.nz/whats-on/murder-in-the-library/
SUMMARY:Murder in the Library
LOCATION:
DESCRIPTION:Join our panel of crime writers, Matt McGuire, Vanda Symon, Paddy Richardson, Jane Woodham and Liam McIlvanney for an evening of absolute murder…in the best possible way.
Presented by the University of Otago in partnership with Dunedin Public Libraries
Booking Essential: Book now
Dunningham Suite, 4th Floor, Dunedin City Library
 
END:VEVENT
END:VCALENDAR