BEGIN:VCALENDAR
PRODID:-//www.cityofliterature.co.nz//EN
VERSION:2.0
METHOD:PUBLISH
BEGIN:VEVENT
DTSTART;TZID=America/New_York:20160501T140000
DTEND;TZID=America/New_York:20160501T143000
URL:https://www.cityofliterature.co.nz/whats-on/once-upon-a-sunday-handy-stories/
SUMMARY:Once Upon A Sunday: Handy Stories
LOCATION:
DESCRIPTION:Join us for some special signed fun, games and stories with local storyteller Kaitrin McMullan.Show us what you can say in NZ Sign Language.For children of all ages.
Children’s Storypit, City Library
END:VEVENT
END:VCALENDAR