BEGIN:VCALENDAR
PRODID:-//www.cityofliterature.co.nz//EN
VERSION:2.0
METHOD:PUBLISH
BEGIN:VEVENT
DTSTART;TZID=America/New_York:20160505T173000
DTEND;TZID=America/New_York:20160505T193000
URL:https://www.cityofliterature.co.nz/whats-on/new-zealand-music-month-at-dunedin-public-libraries/
SUMMARY:New Zealand Music Month at Dunedin Public Libraries
LOCATION:
DESCRIPTION:In partnership with dunedinmusic.com, and with the support of Strawberry Sound, the Dunedin Public Libraries are bringing you gig nights at City Library every Thursday throughout May
Drop by and celebrate NZ Music Month with us!
Dunedin City LibraryFREE
END:VEVENT
END:VCALENDAR