BEGIN:VCALENDAR
PRODID:-//www.cityofliterature.co.nz//EN
VERSION:2.0
METHOD:PUBLISH
BEGIN:VEVENT
DTSTART;TZID=America/New_York:20160501T110000
DTEND;TZID=America/New_York:20160501T160000
URL:https://www.cityofliterature.co.nz/whats-on/nook-and-cranny-music-festival-new-zealand-music-month-2016/
SUMMARY:Nook & Cranny Music Festival: New Zealand Music Month 2016
LOCATION:
DESCRIPTION:In partnership with dunedinmusic.com, and with the support of Strawberry Sound, the Dunedin Public Libraries are bringing you the Nook &amp; Cranny Music Festival at City Library 11am - 4pm on Sunday 1st May to launch Dunedin Music Month.
There’ll be New Zealand music all over the Library, on stages, on tables and in nooks and crannies among the books, with something for all tastes and ages. So drop by and celebrate NZ Music Month with us!
PLUS!Gig Nights at City Library, Thursdays Throughout May, 5.30pm – 7.30pm
Dunedin City LibraryFREE
END:VEVENT
END:VCALENDAR