BEGIN:VCALENDAR
PRODID:-//www.cityofliterature.co.nz//EN
VERSION:2.0
METHOD:PUBLISH
BEGIN:VEVENT
DTSTART;TZID=America/New_York:20160422T140000
DTEND;TZID=America/New_York:20160422T
URL:https://www.cityofliterature.co.nz/whats-on/wild-dunedin-sea-lion-stories/
SUMMARY:Wild Dunedin: Sea Lion Stories
LOCATION:
DESCRIPTION:Come and learn about our local sea lion whanau at a great fun workshop. Work out what sea lions eat and analyse your own (pretend!) sea lion poo. Find out how to tag a sea lion pup, and hear some cool stories about our local sea lions, Jonah, Cockle, Wovoka and Chewy? All participants take away their Welcoming back a Native Treasure sea lion board game to play at home.Suitable for children aged 8+Children under 12 must be accompanied by an adult
Booking Essential: numbers limitedRSVP to: library@dcc.govt.nz or 03 474 3690
In association with Wild Dunedin FestivalDunningham Suite, 4th Floor, Dunedin City LibraryFREE
END:VEVENT
END:VCALENDAR