BEGIN:VCALENDAR
PRODID:-//www.cityofliterature.co.nz//EN
VERSION:2.0
METHOD:PUBLISH
BEGIN:VEVENT
DTSTART;TZID=America/New_York:20160501T150000
DTEND;TZID=America/New_York:20160501T163000
URL:https://www.cityofliterature.co.nz/whats-on/victor-rodger-play-reading-3/
SUMMARY:Victor Rodger Play Reading #3
LOCATION:
DESCRIPTION:FCC presents a reading of Sons written by Victor Rodger, Robert Burns Fellow 2016. Features Robbie Magasiva. Supported by Creative New Zealand.FREE
END:VEVENT
END:VCALENDAR