BEGIN:VCALENDAR
PRODID:-//www.cityofliterature.co.nz//EN
VERSION:2.0
METHOD:PUBLISH
BEGIN:VEVENT
DTSTART;TZID=America/New_York:20160413T190000
DTEND;TZID=America/New_York:20160413T200000
URL:https://www.cityofliterature.co.nz/whats-on/continued-sense-of-wonder-an-adult-conversation-about-childrens-literature/
SUMMARY: Continued Sense of Wonder: An adult conversation about children's literature
LOCATION:
DESCRIPTION:Following the keen interest in children’s literature highlighted by last year’s Centre for the Book symposium, you are invited to join us for a discussion on the joy of reading stories for the young, or young at heart.
Bring along an old favourite or a new discovery to share.
Dunningham Suite, 4th Floor, City LibraryBooking essential: 03 474 3609 or library@dcc.govt.nzFor more information, contact: Jackie.mcmillan@dcc.govt.nz
END:VEVENT
END:VCALENDAR