BEGIN:VCALENDAR
PRODID:-//www.cityofliterature.co.nz//EN
VERSION:2.0
METHOD:PUBLISH
BEGIN:VEVENT
DTSTART;TZID=America/New_York:20160414T180000
DTEND;TZID=America/New_York:20160414T190000
URL:https://www.cityofliterature.co.nz/whats-on/new-calendar-event-12/
SUMMARY: Author Talk: Celebrating Lives Well Lived, Water Under The Bridge Publications
LOCATION:
DESCRIPTION:Warrington author, Naomi Miller, reads excerpts from some of her “Conversations with…..” series that give voice and perpetuity to people’s stories that would otherwise be lost.Dunningham Suite, Dunedin City LibraryBooking essential
END:VEVENT
END:VCALENDAR