BEGIN:VCALENDAR
PRODID:-//www.cityofliterature.co.nz//EN
VERSION:2.0
METHOD:PUBLISH
BEGIN:VEVENT
DTSTART;TZID=America/New_York:20160403T140000
DTEND;TZID=America/New_York:20160403T143000
URL:https://www.cityofliterature.co.nz/whats-on/once-upon-a-sunday-tom-foolery/
SUMMARY:Once Upon a Sunday: Tom Foolery
LOCATION:
DESCRIPTION:Did you hear some good jokes on April Fools’ Day? Bring them along to our Sunday storytime to share with local storyteller Kaitrin McMullan.For children of all ages.Children’s Storypit, City Library
END:VEVENT
END:VCALENDAR