BEGIN:VCALENDAR
PRODID:-//www.cityofliterature.co.nz//EN
VERSION:2.0
METHOD:PUBLISH
BEGIN:VEVENT
DTSTART;TZID=America/New_York:20160401T
DTEND;TZID=America/New_York:20160430T
URL:https://www.cityofliterature.co.nz/whats-on/book-bingo/
SUMMARY:Book Bingo
LOCATION:
DESCRIPTION:Eyes down for a full house with our new game for book lovers.All you have to do is read a book as suggested by each square of our bingo card, and cross them off as you go. Once you’ve filled up your card, take it to your local library for a free DVD hire. Plus you’ll go into the draw to win a prize!Pick up your bingo card from your local library today. Open to everyone with a Dunedin Public Library membership card.All Dunedin Public Libraries
END:VEVENT
END:VCALENDAR