BEGIN:VCALENDAR
PRODID:-//www.cityofliterature.co.nz//EN
VERSION:2.0
METHOD:PUBLISH
BEGIN:VEVENT
DTSTART;TZID=America/New_York:20160310T183000
DTEND;TZID=America/New_York:20160421T203000
URL:https://www.cityofliterature.co.nz/whats-on/creative-writing-classes/
SUMMARY:Creative Writing Classes
LOCATION:
DESCRIPTION:Open to anyone interested in writing, but particularly beginners, or people who would like to discover, or rediscover their creative side. The class is limited to 10 participants so to avoid disappointment please email for an enrolment form asap. (To be returned by 1st March, 2016). For further information, please email Majella Cullinane at scribbler38@gmail.com. COST $89 payable to course tutor.
Runs every Thursday from 10 March - 21 April (No class March 31st)
Port Chalmers Library
END:VEVENT
END:VCALENDAR