BEGIN:VCALENDAR
PRODID:-//www.cityofliterature.co.nz//EN
VERSION:2.0
METHOD:PUBLISH
BEGIN:VEVENT
DTSTART;TZID=America/New_York:20160306T140000
DTEND;TZID=America/New_York:20160306T143000
URL:https://www.cityofliterature.co.nz/whats-on/once-upon-a-sunday-teddy-bears-picnic/
SUMMARY:Once Upon a Sunday: Teddy Bears Picnic
LOCATION:
DESCRIPTION:It’s Children’s Day! Join us for a special Sunday storytime picnic, with local storyteller Kaitrin McMullan.Remember to bring your teddy bear!For children of all ages.Children’s Storypit, City Library
 
END:VEVENT
END:VCALENDAR